BEGIN:VCALENDAR
VERSION:2.0
PRODID:-//hacksw/handcal//NONSGML v1.0//EN
BEGIN:VEVENT
SUMMARY:JOURNEE A NOTRE DAME AVEC PIQUE-NIQUE
UID:a47ffd7c-33ed-4381-b31a-d365b9e71b05
DTSTART:20260502T220000Z
DTEND:20260503T220000Z
LOCATION:Localisation 50 Av. Abbe Thibaud, 85690 Notre-Dame-de-Monts
CATEGORIES:Sportif
STATUS:
DESCRIPTION:<p>Apres avoir couru (ou marche pour ceux qui ne courent
 pas), il est propose de pique-niquer ensemble a l'issue d'un aperitif
 offert par l'association<br />
 GRATUIT POUR LES ADHERENTS ET LEURS
 CONJOINTS<br />
 Chacun apporte son pique-nique, les chaises et tables
 pliantes sont les bienvenues pour ceux qui peuvent en amener.<br
 />
 Co-voiturage : rendez-vous place du Champ de Foire a 8h50 pour un
 depart a 9h00<br />
 Pour le rendez-vous sur place : Biotopa 50 Av.
 Abbe Thibaud, 85690 Notre-Dame-de-Monts</p>
URL;VALUE=URI:https://www.gambadcool.com/evenements/2026/05/03/journee-a-notre-dame-avec-pique-nique-2372697
END:VEVENT
END:VCALENDAR
